BEGIN:VCALENDAR
VERSION:2.0
PRODID:TU Chemnitz
METHOD:PUBLISH
X-WR-CALNAME:Veranstaltungen der TU Chemnitz
X-WR-TIMEZONE:Europe/Berlin
BEGIN:VEVENT
CLASS:PUBLIC
DTSTART;TZID="Europe/Berlin":20050501T103000
DTEND;TZID="Europe/Berlin":20050501T120000
LOCATION:Reichenhainer Str. 90\, Chemnitz (Zentr. Hörsaal- und Seminargebäude)
SUMMARY:SonntagsUni: „Licht aus! Spot an! - Die Geheimnisse der Werbung“ (Philosophische Fakultät\, Professur Erwachsenenbildung und betriebliche Weiterbildung)
DESCRIPTION:Prof. Dr. Cornelia Zanger\, Prorektorin für Lehre und Studium sowie Inhaberin des Lehrstuhls für Marketing und Handelsbetriebsle\nJana Voigt\, Tel.: 0371/ 531 4532\, E-Mail: jana.voigt@phil.tu-chemnitz.de
ORGANIZER:MAILTO:jana.voigt@phil.tu-chemnitz.de
UID:5665@www.tu-chemnitz.de
CREATED:20041220T155200Z
DTSTAMP:20210802T195944Z
END:VEVENT
END:VCALENDAR
