BEGIN:VCALENDAR
VERSION:2.0
PRODID:TU Chemnitz
METHOD:PUBLISH
X-WR-CALNAME:Veranstaltungen der TU Chemnitz
X-WR-TIMEZONE:Europe/Berlin
BEGIN:VEVENT
CLASS:PUBLIC
DTSTART;TZID="Europe/Berlin":20050306T103000
DTEND;TZID="Europe/Berlin":20050306T120000
LOCATION:Reichenhainer Str. 70\, Chemnitz (Weinhold-Bau)
SUMMARY:SonntagsUni: „Zukunftsperspektiven: Kunstsammlungen Chemnitz“ (Philosophische Fakultät\, Professur Erwachsenenbildung und betriebliche Weiterbildung)
DESCRIPTION:Ingrid Mössinger\, Direktorin der Kunstsammlungen Chemnitz\nJana Voigt\, Tel.: 0371/ 531 4532\, E-Mail: jana.voigt@phil.tu-chemnitz.de
ORGANIZER:MAILTO:jana.voigt@phil.tu-chemnitz.de
UID:5661@www.tu-chemnitz.de
CREATED:20041220T154000Z
DTSTAMP:20210802T200226Z
END:VEVENT
END:VCALENDAR
