BEGIN:VCALENDAR
VERSION:2.0
PRODID:TU Chemnitz
METHOD:PUBLISH
X-WR-CALNAME:Veranstaltungen der TU Chemnitz
X-WR-TIMEZONE:Europe/Berlin
BEGIN:VEVENT
CLASS:PUBLIC
DTSTART;TZID="Europe/Berlin":20041216T170000
DTEND;TZID="Europe/Berlin":20041216T180000
LOCATION:Radio UNiCC
SUMMARY:Marco Unger (Stura) im Radio und Chat (Radio UNiCC - Keskustelu)
DESCRIPTION:Marco Unger (Konferenz sächsischer Studierendenschaften) zur aktuellen Hochschulpolitik und Situation der TU Chemnitz.
ORGANIZER:MAILTO:till.kaebsch@radio-unicc.de
UID:5654@www.tu-chemnitz.de
CREATED:20041216T151600Z
DTSTAMP:20210802T200430Z
END:VEVENT
END:VCALENDAR
