BEGIN:VCALENDAR
VERSION:2.0
PRODID:TU Chemnitz
METHOD:PUBLISH
X-WR-CALNAME:Veranstaltungen der TU Chemnitz
X-WR-TIMEZONE:Europe/Berlin
BEGIN:VEVENT
CLASS:PUBLIC
DTSTART;TZID="Europe/Berlin":20040114T193000
DTEND;TZID="Europe/Berlin":20041215T030000
LOCATION:Reichenhainer Str. 35/37\, Filmclub
SUMMARY:Babette Herchenröder "Reise in ein besetztes Land" -Filmvorführung und anschließende Diskussions- und Fragerunde (Studentenrat)
DESCRIPTION:Babette Herchenröder dokumentiert ihre Erfahrungen einer siebenwöchigen Reise durch das Westjordanland und den Gazastreifen. Herzstück des Films sind die Begegnungen mit den PalästinenserInnen\, die von ihrem Leben unter der Besatzung erzählen.\nBabette Herchenröder\nstura@tu-chemnitz.de
ORGANIZER:MAILTO:doreen.locher@s2001.tu-chemnitz.de
UID:5650@www.tu-chemnitz.de
CREATED:20041215T165900Z
DTSTAMP:20210802T201136Z
END:VEVENT
END:VCALENDAR
