BEGIN:VCALENDAR
VERSION:2.0
PRODID:TU Chemnitz
METHOD:PUBLISH
X-WR-CALNAME:Veranstaltungen der TU Chemnitz
X-WR-TIMEZONE:Europe/Berlin
BEGIN:VEVENT
CLASS:PUBLIC
DTSTART;TZID="Europe/Berlin":20050111T190000
DTEND;TZID="Europe/Berlin":20050111T200000
LOCATION:Reichenhainer Str. 90\, Chemnitz (Zentr. Hörsaal- und Seminargebäude)
SUMMARY:Infoveranstaltung zu Stipendien der Stiftung der Deutschen Wirtschaft (sdw) (Stipendiatengruppe Chemnitz der sdw)
DESCRIPTION: Die Stipendiaten der sdw in Chemnitz stellen Euch...\n-Ziele und Leistungen der sdw\n-Anforderungen für die\nVergabe eines Stipendium\n-Bewerbungsverfahren für\nGrund- und Promotionsförderung\n...vor und stehen für Eure Fragen zur Verfügung.\nStudenten der sdw-Gruppe Chemnitz
ORGANIZER:MAILTO:voigt@hrz.tu-chemnitz.de
UID:5649@www.tu-chemnitz.de
CREATED:20041215T151300Z
DTSTAMP:20210802T200405Z
END:VEVENT
END:VCALENDAR
