BEGIN:VCALENDAR
VERSION:2.0
PRODID:TU Chemnitz
METHOD:PUBLISH
X-WR-CALNAME:Veranstaltungen der TU Chemnitz
X-WR-TIMEZONE:Europe/Berlin
BEGIN:VEVENT
CLASS:PUBLIC
DTSTART;TZID="Europe/Berlin":20050118T190000
DTEND;TZID="Europe/Berlin":20050118T210000
LOCATION:Str. der Nationen 62\, Chemnitz (Altes Heizhaus)
SUMMARY:Technik\, Text und Dokumentation - oder: Agricola und die Folgen (Philosophische Fakultät)
DESCRIPTION:Antrittsvorlesung der Professur Angewandte Sprachwissenschaft.\n\nAlle InteressentInnen sind herzlich eingeladen!\nProf. Dr. Annely Rothkegel\, TU Chemnitz\nkarla.kebsch@phil.tu-chemnitz.de
ORGANIZER:MAILTO:karla.kebsch@phil.tu-chemnitz.de
UID:5648@www.tu-chemnitz.de
CREATED:20041215T101100Z
DTSTAMP:20210802T200402Z
END:VEVENT
END:VCALENDAR
