BEGIN:VCALENDAR
VERSION:2.0
PRODID:TU Chemnitz
METHOD:PUBLISH
X-WR-CALNAME:Veranstaltungen der TU Chemnitz
X-WR-TIMEZONE:Europe/Berlin
BEGIN:VEVENT
CLASS:PUBLIC
DTSTART;TZID="Europe/Berlin":20050621T163000
DTEND;TZID="Europe/Berlin":20050621T163000
LOCATION:Erfenschlager Str. 73\, Chemnitz
SUMMARY:Innovative Nockenwellenkonzepte (TU Chemnitz\, AWT-/VDI-W-Arbeitskreis Wärmebehandlung und Werkstofftechnik Chemnitz/Freiberg)
DESCRIPTION:Dr. Reinhard Wolf\, HTM Chemnitz\nulrich.thieme@t-online.de
ORGANIZER:MAILTO:iroe@hrz.tu-chemnitz.de
UID:5643@www.tu-chemnitz.de
CREATED:20041210T135400Z
DTSTAMP:20210802T195927Z
END:VEVENT
END:VCALENDAR
