BEGIN:VCALENDAR
VERSION:2.0
PRODID:TU Chemnitz
METHOD:PUBLISH
X-WR-CALNAME:Veranstaltungen der TU Chemnitz
X-WR-TIMEZONE:Europe/Berlin
BEGIN:VEVENT
CLASS:PUBLIC
DTSTART;TZID="Europe/Berlin":20050524T163000
DTEND;TZID="Europe/Berlin":20050524T163000
LOCATION:Erfenschlager Str. 73\, Chemnitz
SUMMARY:"Metallschäume" (TU Chemnitz\, AWT-/VDI-W-Arbeitskreis Wärmebehandlung und Werkstofftechnik Chemnitz/Freiberg)
DESCRIPTION:Dipl.-Ing. Dirk Lehmhus\, FhG IFAM Bremen\nulrich.thieme@t-online.de
ORGANIZER:MAILTO:iroe@hrz.tu-chemnitz.de
UID:5641@www.tu-chemnitz.de
CREATED:20041210T134700Z
DTSTAMP:20210802T195948Z
END:VEVENT
END:VCALENDAR
