BEGIN:VCALENDAR
VERSION:2.0
PRODID:TU Chemnitz
METHOD:PUBLISH
X-WR-CALNAME:Veranstaltungen der TU Chemnitz
X-WR-TIMEZONE:Europe/Berlin
BEGIN:VEVENT
CLASS:PUBLIC
DTSTART;TZID="Europe/Berlin":20050215T163000
DTEND;TZID="Europe/Berlin":20050215T163000
LOCATION:Erfenschlager Str. 73\, Chemnitz
SUMMARY:"Zerstörungsfreie Werkstoffcharakterisierung im Überblick" (TU Chemnitz\, AWT-/VDI-W-Arbeitskreis Wärmebehandlung und Werkstofftechnik Chemnitz/Freiberg)
DESCRIPTION:Dr.Jürgen Pohl\, PLR Prüftechnik Linke & Rühe GmbH Magdeburg\nulrich.thieme@t-online.de
ORGANIZER:MAILTO:iroe@hrz.tu-chemnitz.de
UID:5639@www.tu-chemnitz.de
CREATED:20041210T134100Z
DTSTAMP:20210802T200347Z
END:VEVENT
END:VCALENDAR
