BEGIN:VCALENDAR
VERSION:2.0
PRODID:TU Chemnitz
METHOD:PUBLISH
X-WR-CALNAME:Veranstaltungen der TU Chemnitz
X-WR-TIMEZONE:Europe/Berlin
BEGIN:VEVENT
CLASS:PUBLIC
DTSTART;VALUE=DATE:20041209
DTEND;TZID="Europe/Berlin":20041209T235900
LOCATION:Reichenhainer Str. 55\, Chemnitz (Mensa)
SUMMARY:TaC: Kartenvorverkauf Campus-Silvesterfete zu 3\,00 EUR (TaC)
DESCRIPTION:Silvesterfte im TaC zu 3\,00 EUR Eintritt für Studenten....DJ KAY (ex baracuda artists) legt auf und bringtdie richtige Stimmung in den Saal für das neue Jahr. Karten an der Bar im TaC ab heute erhältlich !!!
ORGANIZER:MAILTO:made@hrz.tu-chemnitz.de
UID:5624@www.tu-chemnitz.de
CREATED:20041208T101900Z
DTSTAMP:20210802T200418Z
END:VEVENT
END:VCALENDAR
