BEGIN:VCALENDAR
VERSION:2.0
PRODID:TU Chemnitz
METHOD:PUBLISH
X-WR-CALNAME:Veranstaltungen der TU Chemnitz
X-WR-TIMEZONE:Europe/Berlin
BEGIN:VEVENT
CLASS:PUBLIC
DTSTART;TZID="Europe/Berlin":19990624T181500
DTEND;TZID="Europe/Berlin":19990624T194500
LOCATION:Uni-Teil 3: Reichenhainer Str. 70\, Chemnitz (Zentr. Hörsaal- und Seminargebäude)
SUMMARY:Bilderkult und Bildersturm - Ein Blick auf das 15. Jahrhundert (Philosophische Fakultät\, Wirtschafts- und Sozialgeschichte und Geschichte des Mittelalters)
DESCRIPTION:Roundtable*\n*Ein Diskussionspapier liegt eine Woche vor der Veranstaltung im Sekretariat Fr. Weigel aus\, Rh 39\, Zi. 316.
ORGANIZER:MAILTO:pev@hrz.tu-chemnitz.de
UID:561@www.tu-chemnitz.de
CREATED:19990607T170200Z
DTSTAMP:20210802T203409Z
END:VEVENT
END:VCALENDAR
