BEGIN:VCALENDAR
VERSION:2.0
PRODID:TU Chemnitz
METHOD:PUBLISH
X-WR-CALNAME:Veranstaltungen der TU Chemnitz
X-WR-TIMEZONE:Europe/Berlin
BEGIN:VEVENT
CLASS:PUBLIC
DTSTART;TZID="Europe/Berlin":20041214T210000
DTEND;TZID="Europe/Berlin":20041214T235900
LOCATION:Vettersstr. 52/54\, Chemnitz (Studentenwohnheim)
SUMMARY:Feuerzangebowle (windKanal)
DESCRIPTION:Alljährlich ein Muß: ein Abend mit echter Feuerzangenbowle. Hier trinkt das Auge mit! Nicht nur optisch ein Genuß :)
ORGANIZER:MAILTO:kathy.welz@s1999.tu-chemnitz.de
UID:5609@www.tu-chemnitz.de
CREATED:20041205T214800Z
DTSTAMP:20210802T200422Z
END:VEVENT
END:VCALENDAR
