BEGIN:VCALENDAR
VERSION:2.0
PRODID:TU Chemnitz
METHOD:PUBLISH
X-WR-CALNAME:Veranstaltungen der TU Chemnitz
X-WR-TIMEZONE:Europe/Berlin
BEGIN:VEVENT
CLASS:PUBLIC
DTSTART;TZID="Europe/Berlin":20041209T210000
DTEND;TZID="Europe/Berlin":20041210T020000
LOCATION:Vettersstr. 64/66\, Chemnitz (Studentenwohnheim)
SUMMARY:Tequila Party
DESCRIPTION:Die Tequila Party geht in die zweite Runde!\nFür einen Abend ist Mexiko in die Bit verlegt. Seid nicht verlegen und legt einen Stop im Land der Kakteen ein!\nBegin 21 Uhr\, Ende offen
ORGANIZER:MAILTO:Ziegler
UID:5599@www.tu-chemnitz.de
CREATED:20041202T170500Z
DTSTAMP:20210802T200420Z
END:VEVENT
END:VCALENDAR
