BEGIN:VCALENDAR
VERSION:2.0
PRODID:TU Chemnitz
METHOD:PUBLISH
X-WR-CALNAME:Veranstaltungen der TU Chemnitz
X-WR-TIMEZONE:Europe/Berlin
BEGIN:VEVENT
CLASS:PUBLIC
DTSTART;TZID="Europe/Berlin":20041207T131500
DTEND;TZID="Europe/Berlin":20041207T150000
LOCATION:Reichenhainer Str. 90\, Chemnitz (Zentr. Hörsaal- und Seminargebäude)
SUMMARY:Torquemotoren als Direktantriebe in der industriellen Anwendung (Fakultät für Elektrotechnik und Informationstechnik\, Elektrotechnisches Institut)
DESCRIPTION:Dr.-Ing. Hans-Jürgen Wehner\, Direktor R&D Baumüller GmbH Nürnberg
ORGANIZER:MAILTO:jozi@hrz.tu-chemnitz.de
UID:5597@www.tu-chemnitz.de
CREATED:20041202T113200Z
DTSTAMP:20210802T200427Z
END:VEVENT
END:VCALENDAR
