BEGIN:VCALENDAR
VERSION:2.0
PRODID:TU Chemnitz
METHOD:PUBLISH
X-WR-CALNAME:Veranstaltungen der TU Chemnitz
X-WR-TIMEZONE:Europe/Berlin
BEGIN:VEVENT
CLASS:PUBLIC
DTSTART;TZID="Europe/Berlin":20041213T210000
DTEND;TZID="Europe/Berlin":20041213T235900
LOCATION:Reichenhainer Str. 37/Keller
SUMMARY:"Soulfood im PEB" (PEB-Studentenkeller)
DESCRIPTION:Die Beschallungsreihe Eures Lieblingssenders im PEB geht weiter:\n \nSoulfood - Kubanische\, indische und afrikanische Musik zusammen mit Jimi Hendrix oder James Brown ...\n\nDazu gibts wie immer leckere Getränke zu günstigen Preisen!\nRadio UniCC\nwww.radio-unicc.de
ORGANIZER:MAILTO:mahub@hrz.tu-chemnitz.de
UID:5592@www.tu-chemnitz.de
CREATED:20041201T021600Z
DTSTAMP:20210802T200421Z
END:VEVENT
END:VCALENDAR
