BEGIN:VCALENDAR
VERSION:2.0
PRODID:TU Chemnitz
METHOD:PUBLISH
X-WR-CALNAME:Veranstaltungen der TU Chemnitz
X-WR-TIMEZONE:Europe/Berlin
BEGIN:VEVENT
CLASS:PUBLIC
DTSTART;TZID="Europe/Berlin":19990701T181500
DTEND;TZID="Europe/Berlin":19990701T204500
LOCATION:Uni-Teil 3: Reichenhainer Str. 70\, Chemnitz (Zentr. Hörsaal- und Seminargebäude)
SUMMARY:Finanzbedarf\, Finanzplan\, Kapitalgeber\, Risikokapital und Banken für Unternehmensgründer (Fakultät für Wirtschaftswissenschaften\, Professur für Unternehmensgründung)
DESCRIPTION:Finanzbedarf / Finanzplan / Kapitalgeber / Risikokapital / Banken im Gründungsprozeß. Vertiefung als Schwerpunktthema im Rahmen der Lehrveranstaltung Zertifikat "Unternehmensgründung / Entrepreneurship" für Studierende\, Mitarbeiter und Gasthöhrer\nProf. Friedrich Thießen\, Professur Finanzwirtschaft und Bankbetriebslehre / Herbert Jenisch\, Deutsche Ausgleichsbank Bonn\nTel. 531 - 8070 / F.Zimmermann@wirtschaft.tu-chemnitz.de
ORGANIZER:MAILTO:zimmerma@hrz.tu-chemnitz.de
UID:559@www.tu-chemnitz.de
CREATED:19990603T150100Z
DTSTAMP:20210802T203355Z
END:VEVENT
END:VCALENDAR
