BEGIN:VCALENDAR
VERSION:2.0
PRODID:TU Chemnitz
METHOD:PUBLISH
X-WR-CALNAME:Veranstaltungen der TU Chemnitz
X-WR-TIMEZONE:Europe/Berlin
BEGIN:VEVENT
CLASS:PUBLIC
DTSTART;TZID="Europe/Berlin":20041203T191500
DTEND;TZID="Europe/Berlin":20041203T203000
LOCATION:DAStietz
SUMMARY:Literatur live - Petra Seedorff (Philosophische Fakultät\, Lit. d. 20. Jhds.)
DESCRIPTION:Die junge Chemnitzer Autorin und Lehrerin\, welche nach einer Diskussion mit Schülern zum 11. September 2001 gemaßregelt und versetzt wurde\, liest neue Texte. Moderation: Prof. Elke Mehnert\, Eintritt 2 Euro\nPetra Seedorff
ORGANIZER:MAILTO:mirko.ahnert@web.de
UID:5589@www.tu-chemnitz.de
CREATED:20041130T170100Z
DTSTAMP:20210802T200427Z
END:VEVENT
END:VCALENDAR
