BEGIN:VCALENDAR
VERSION:2.0
PRODID:TU Chemnitz
METHOD:PUBLISH
X-WR-CALNAME:Veranstaltungen der TU Chemnitz
X-WR-TIMEZONE:Europe/Berlin
BEGIN:VEVENT
CLASS:PUBLIC
DTSTART;TZID="Europe/Berlin":20041202T180000
DTEND;TZID="Europe/Berlin":20041202T200000
LOCATION:Soziokulturelles Zentrum QUER BEET\, Rosenplatz 4\, 09126 Chemnitz
SUMMARY:Die Zapatisten-Bewegung. DER URSPRUNG - DER WEG - DAS ZIEL (Rosa-Luxemburg-Stiftung Sachsen e.V.)
DESCRIPTION:1994 erhoben sich die Zapatisten gegen die unerträgliche Lage der Indigenas\, denen durch neoliberale Politik jegliche Lebensgrundlage genommen wurde.Die Antwort Regierung war ein Krieg gegen die Bevölkerung.\nHendrik Hadlich ( TU Chemnitz)
ORGANIZER:MAILTO:tki@hrz.tu-chemnitz.de
UID:5588@www.tu-chemnitz.de
CREATED:20041130T140800Z
DTSTAMP:20210802T200420Z
END:VEVENT
END:VCALENDAR
