BEGIN:VCALENDAR
VERSION:2.0
PRODID:TU Chemnitz
METHOD:PUBLISH
X-WR-CALNAME:Veranstaltungen der TU Chemnitz
X-WR-TIMEZONE:Europe/Berlin
BEGIN:VEVENT
CLASS:PUBLIC
DTSTART;TZID="Europe/Berlin":20041206T190000
DTEND;TZID="Europe/Berlin":20041206T200000
LOCATION:Radio UNICC
SUMMARY:|WINTERKRI:MI| (TU Chemnitz\, Club der Kulturen)
DESCRIPTION:Es ist Winter: die Tage werden kürzer\, die Straßen dunkler und es gibt Menschen\, die das geschickt ausnutzen...\nRussisch Club\, Club der Kulturen\nwww.tu-chemnitz.de/stud/club/kulturen/
ORGANIZER:MAILTO:vni@hrz.tu-chemnitz.de
UID:5585@www.tu-chemnitz.de
CREATED:20041130T114700Z
DTSTAMP:20210802T200419Z
END:VEVENT
END:VCALENDAR
