BEGIN:VCALENDAR
VERSION:2.0
PRODID:TU Chemnitz
METHOD:PUBLISH
X-WR-CALNAME:Veranstaltungen der TU Chemnitz
X-WR-TIMEZONE:Europe/Berlin
BEGIN:VEVENT
CLASS:PUBLIC
DTSTART;TZID="Europe/Berlin":20041213T200000
DTEND;TZID="Europe/Berlin":20041213T220000
LOCATION:filmclub mittendrin
SUMMARY:Kleine Revolte – Pequeña revancha  (amnesty international Chemnitz)
DESCRIPTION:In einem kleinen Dorf irgendwo in Lateinamerika: Es herrscht eine Militärdiktatur. Als Soldaten absichtlich den Hund des 12-jährigen Pedro überfahren wird er zum "Regimegegner" und organisiert mit seinen Freunden eine Racheaktion.
ORGANIZER:MAILTO:amnesty-chemnitz@web.de
UID:5582@www.tu-chemnitz.de
CREATED:20041130T094800Z
DTSTAMP:20210802T200419Z
END:VEVENT
END:VCALENDAR
