BEGIN:VCALENDAR
VERSION:2.0
PRODID:TU Chemnitz
METHOD:PUBLISH
X-WR-CALNAME:Veranstaltungen der TU Chemnitz
X-WR-TIMEZONE:Europe/Berlin
BEGIN:VEVENT
CLASS:PUBLIC
DTSTART;TZID="Europe/Berlin":20041210T190000
DTEND;TZID="Europe/Berlin":20041210T190000
LOCATION:Club der Kulturen
SUMMARY:Ausstellungseröffnung zum Internationalen Tag der Menschenrechte - Wie (über-)leben Kinder in Uganda? (amnesty international Chemnitz)
DESCRIPTION:Ausstellungseröffnung über die Kinderrechtskonvention der Vereinten Nationen mit einem Vortrag über das Leben von Kindern in Uganda; über Gewalt\, Zwangsrekrutierung\, Armut\, ungenügende Schulbildung und Kinderarbeit.\nCaroline Schmidt
ORGANIZER:MAILTO:amnesty-chemnitz@web.de
UID:5581@www.tu-chemnitz.de
CREATED:20041130T094200Z
DTSTAMP:20210802T200424Z
END:VEVENT
END:VCALENDAR
