BEGIN:VCALENDAR
VERSION:2.0
PRODID:TU Chemnitz
METHOD:PUBLISH
X-WR-CALNAME:Veranstaltungen der TU Chemnitz
X-WR-TIMEZONE:Europe/Berlin
BEGIN:VEVENT
CLASS:PUBLIC
DTSTART;TZID="Europe/Berlin":19990629T173000
DTEND;TZID="Europe/Berlin":19990629T190000
LOCATION:Uni-Teil 1: Str. der Nationen 62\, Chemnitz (Böttcher-Bau)
SUMMARY:UNIX-Stammtisch in Sachsen (Universitätsrechenzentrum)
DESCRIPTION:Thema: <B>eCommerce-Software:<BR>\nGen&uuml;gt da nicht eine HTML-Seite?</B>\nRonny Vogel\, INTERSHOP Communications GmbH\, Jena
ORGANIZER:MAILTO:imu@hrz.tu-chemnitz.de
UID:557@www.tu-chemnitz.de
CREATED:19990603T130300Z
DTSTAMP:20210802T203411Z
END:VEVENT
END:VCALENDAR
