BEGIN:VCALENDAR
VERSION:2.0
PRODID:TU Chemnitz
METHOD:PUBLISH
X-WR-CALNAME:Veranstaltungen der TU Chemnitz
X-WR-TIMEZONE:Europe/Berlin
BEGIN:VEVENT
CLASS:PUBLIC
DTSTART;TZID="Europe/Berlin":20041208T134500
DTEND;TZID="Europe/Berlin":20041208T151500
LOCATION:Reichenhainer Str. 70\, Chemnitz (Rühlmann-Bau)
SUMMARY:N U T Z E R F O R U M des U R Z (Universitätsrechenzentrum)
DESCRIPTION:Thema des Monats - speziell für Windows-Nutzer: "Dateien effektiv speichern und gemeinsam bearbeiten" - Kennen und nutzen Sie die Möglichkeiten\, die das Netzwerkfilesystem AFS im Campusnetz bietet?\n Dipl.-Inform. Thomas Müller und Dipl.-Ing. Christoph Ziegler
ORGANIZER:MAILTO:u.riedel@hrz.tu-chemnitz.de
UID:5564@www.tu-chemnitz.de
CREATED:20041125T112900Z
DTSTAMP:20210802T200422Z
END:VEVENT
END:VCALENDAR
