BEGIN:VCALENDAR
VERSION:2.0
PRODID:TU Chemnitz
METHOD:PUBLISH
X-WR-CALNAME:Veranstaltungen der TU Chemnitz
X-WR-TIMEZONE:Europe/Berlin
BEGIN:VEVENT
CLASS:PUBLIC
DTSTART;TZID="Europe/Berlin":20041126T113000
DTEND;TZID="Europe/Berlin":20041126T130000
LOCATION:Reichenhainer Str. 90\, Chemnitz (Zentr. Hörsaal- und Seminargebäude)
SUMMARY:„’Not all one song’: Arthur Miller in the German Theatre” (Philosophische Fakultät\, Amerikanistik)
DESCRIPTION:Dr. Michael Raab (Schauspiel Leipzig) hält einen Gastvortrag zum Thema:\n\n„’Not all one song’: Arthur Miller in the German Theatre”\n\nAn alle Interessierten ergeht eine herzliche Einladung!\n\ngez. i.V. Dr. Elke Kinkel/Prof. Dr. W. Huber\nDr. Michael Raab (Schauspiel Leipzig)
ORGANIZER:MAILTO:brin@hrz.tu-chemnitz.de
UID:5545@www.tu-chemnitz.de
CREATED:20041122T145300Z
DTSTAMP:20210802T200454Z
END:VEVENT
END:VCALENDAR
