BEGIN:VCALENDAR
VERSION:2.0
PRODID:TU Chemnitz
METHOD:PUBLISH
X-WR-CALNAME:Veranstaltungen der TU Chemnitz
X-WR-TIMEZONE:Europe/Berlin
BEGIN:VEVENT
CLASS:PUBLIC
DTSTART;TZID="Europe/Berlin":20041203T091500
DTEND;TZID="Europe/Berlin":20041203T104500
LOCATION:Reichenhainer Str. 70\, Chemnitz (Weinhold-Bau)
SUMMARY:„Struktur\, Chaos und Selbstreferenz in Edgar Allan Poes Erzählungen“ (Philosophische Fakultät\, Amerikanistik)
DESCRIPTION:Prof. Dr. Hubert Zapf (Universität Augsburg)hält\neinen Gastvortrag zum Thema:\n\n„Struktur\, Chaos und Selbstreferenz in Edgar Allan Poes Erzählungen“\n\nEs ergeht eine herzliche Einladung!\n\ngez. i.V. Prof. Dr. W. Huber\nProf. Dr. Hubert Zapf (Uni Augsburg)
ORGANIZER:MAILTO:brin@hrz.tu-chemnitz.de
UID:5544@www.tu-chemnitz.de
CREATED:20041122T144900Z
DTSTAMP:20210802T200426Z
END:VEVENT
END:VCALENDAR
