BEGIN:VCALENDAR
VERSION:2.0
PRODID:TU Chemnitz
METHOD:PUBLISH
X-WR-CALNAME:Veranstaltungen der TU Chemnitz
X-WR-TIMEZONE:Europe/Berlin
BEGIN:VEVENT
CLASS:PUBLIC
DTSTART;TZID="Europe/Berlin":20041208T200000
DTEND;TZID="Europe/Berlin":20041208T235900
LOCATION:Reichenhainer Str. 55\, Chemnitz (Mensa)
SUMMARY:TaC: Champions League / Leverkusen-Kiev & Amsterdam-Bayern (TU Chemnitz)
DESCRIPTION:....jou dat wird ein heißer Tanz...
ORGANIZER:MAILTO:made@hrz.tu-chemnitz.de
UID:5538@www.tu-chemnitz.de
CREATED:20041122T105300Z
DTSTAMP:20210802T200430Z
END:VEVENT
END:VCALENDAR
