BEGIN:VCALENDAR
VERSION:2.0
PRODID:TU Chemnitz
METHOD:PUBLISH
X-WR-CALNAME:Veranstaltungen der TU Chemnitz
X-WR-TIMEZONE:Europe/Berlin
BEGIN:VEVENT
CLASS:PUBLIC
DTSTART;TZID="Europe/Berlin":20041123T203000
DTEND;TZID="Europe/Berlin":20041123T233000
LOCATION:Kino\, Reichenhainer Str. 35/37\, Keller
SUMMARY:[Kino * "mittendrin"] Sommersturm (Filmclub "mittendrin")
DESCRIPTION:"Die Welt" schreibt Stadlobers Figur sei "wahrscheinlich der erste Homo in einem deutschen Publikumsfilm\, der keine aufgekratzte Tucke\, kein Schwächling\, kein Ledermacho und kein dauergeiles\, narzisstisches Fitnessstudiomonster ist...". Gutes Kino!
ORGANIZER:MAILTO:schneid@hrz.tu-chemnitz.de
UID:5530@www.tu-chemnitz.de
CREATED:20041119T122800Z
DTSTAMP:20210802T200438Z
END:VEVENT
END:VCALENDAR
