BEGIN:VCALENDAR
VERSION:2.0
PRODID:TU Chemnitz
METHOD:PUBLISH
X-WR-CALNAME:Veranstaltungen der TU Chemnitz
X-WR-TIMEZONE:Europe/Berlin
BEGIN:VEVENT
CLASS:PUBLIC
DTSTART;TZID="Europe/Berlin":20041218T080000
DTEND;TZID="Europe/Berlin":20041219T230000
LOCATION:Vettersstr. 70/72\, Chemnitz (Studentenwohnheim)
SUMMARY:>>>Yu-Gi-Oh<<< (FPM-Club)
DESCRIPTION:\n1. Offizielles Yu-Gi-Oh Turnier in Chemnitz\n\n
ORGANIZER:MAILTO:fpm-club@tu-chemnitz.de
UID:5513@www.tu-chemnitz.de
CREATED:20041117T173300Z
DTSTAMP:20210802T200429Z
END:VEVENT
END:VCALENDAR
