BEGIN:VCALENDAR
VERSION:2.0
PRODID:TU Chemnitz
METHOD:PUBLISH
X-WR-CALNAME:Veranstaltungen der TU Chemnitz
X-WR-TIMEZONE:Europe/Berlin
BEGIN:VEVENT
CLASS:PUBLIC
DTSTART;TZID="Europe/Berlin":20041209T210000
DTEND;TZID="Europe/Berlin":20041210T030000
LOCATION:Vettersstr. 70/72\, Chemnitz (Studentenwohnheim)
SUMMARY:>>>No Pop<<< (FPM-Club)
DESCRIPTION:\nNu Metal & X-Over\n\nMixed by Dero\n\n
ORGANIZER:MAILTO:fpm-club@tu-chemnitz.de
UID:5512@www.tu-chemnitz.de
CREATED:20041117T173300Z
DTSTAMP:20210802T200429Z
END:VEVENT
END:VCALENDAR
