BEGIN:VCALENDAR
VERSION:2.0
PRODID:TU Chemnitz
METHOD:PUBLISH
X-WR-CALNAME:Veranstaltungen der TU Chemnitz
X-WR-TIMEZONE:Europe/Berlin
BEGIN:VEVENT
CLASS:PUBLIC
DTSTART;TZID="Europe/Berlin":20041119T210000
DTEND;TZID="Europe/Berlin":20041120T030000
LOCATION:Vettersstr. 70/72\, Chemnitz (Studentenwohnheim)
SUMMARY:>>>Darkzone<<< (FPM-Club)
DESCRIPTION:\nDie dunkle Seite... Dark-Wave\, EBM\, Industrial...\n\nMarek\n\n
ORGANIZER:MAILTO:fpm-club@tu-chemnitz.de
UID:5506@www.tu-chemnitz.de
CREATED:20041117T170300Z
DTSTAMP:20210802T200444Z
END:VEVENT
END:VCALENDAR
