BEGIN:VCALENDAR
VERSION:2.0
PRODID:TU Chemnitz
METHOD:PUBLISH
X-WR-CALNAME:Veranstaltungen der TU Chemnitz
X-WR-TIMEZONE:Europe/Berlin
BEGIN:VEVENT
CLASS:PUBLIC
DTSTART;TZID="Europe/Berlin":20041210T110000
DTEND;TZID="Europe/Berlin":20041210T160000
LOCATION:Reichenhainer Str. 41\, Chemnitz
SUMMARY:Internetrecherche für Sozial- und Geisteswissenschaftler (Schreibzentrum im FG Germanistik)
DESCRIPTION:Vom Surfen zur Recherche: Im Workshop werden zahlreiche Rechercheinstrumente und -techniken gezeigt und praktisch erprobt\, die eine systematische und effektive Nutzung des WWW bei der wissenschaftlichen Arbeit ermöglichen.\nSonja Ruda\, M.A.\nInfos und Anmeldung auf der Homepage des Schreibzentrums unter >Veranstaltungen<
ORGANIZER:MAILTO:mkl@hrz.tu-chemnitz.de
UID:5504@www.tu-chemnitz.de
CREATED:20041117T113500Z
DTSTAMP:20210802T200420Z
END:VEVENT
END:VCALENDAR
