BEGIN:VCALENDAR
VERSION:2.0
PRODID:TU Chemnitz
METHOD:PUBLISH
X-WR-CALNAME:Veranstaltungen der TU Chemnitz
X-WR-TIMEZONE:Europe/Berlin
BEGIN:VEVENT
CLASS:PUBLIC
DTSTART;TZID="Europe/Berlin":20041116T203000
DTEND;TZID="Europe/Berlin":20041116T233000
LOCATION:Kino\, Reichenhainer Str 35/37\, Keller
SUMMARY:[Kino * "mittendrin"] Musica Cubana (Filmclub "mittendrin")
DESCRIPTION:"Die Kubaner machen keine Musik\, sie sind Musik."\nEin Film über die "Erben" des Buena Vista Social Club.\nEinlass: 20.30\, Film: 21.00\nCaipi: 2\,- (Exclusiv von Mikes-Caipi-Party ... und dort die ganze Nacht!!)
ORGANIZER:MAILTO:schneid@hrz.tu-chemnitz.de
UID:5502@www.tu-chemnitz.de
CREATED:20041116T154800Z
DTSTAMP:20210802T200438Z
END:VEVENT
END:VCALENDAR
