BEGIN:VCALENDAR
VERSION:2.0
PRODID:TU Chemnitz
METHOD:PUBLISH
X-WR-CALNAME:Veranstaltungen der TU Chemnitz
X-WR-TIMEZONE:Europe/Berlin
BEGIN:VEVENT
CLASS:PUBLIC
DTSTART;TZID="Europe/Berlin":20041120T150000
DTEND;TZID="Europe/Berlin":20041120T180000
LOCATION:Reichenhainer Str. 55\, Chemnitz (Mensa)
SUMMARY:TaC: Bundesligakneipe (taC)
DESCRIPTION:.....WER IST EIGENTLICH WOLFSBURG ???????
ORGANIZER:MAILTO:made@hrz.tu-chemnitz.de
UID:5498@www.tu-chemnitz.de
CREATED:20041115T163700Z
DTSTAMP:20210802T200450Z
END:VEVENT
END:VCALENDAR
