BEGIN:VCALENDAR
VERSION:2.0
PRODID:TU Chemnitz
METHOD:PUBLISH
X-WR-CALNAME:Veranstaltungen der TU Chemnitz
X-WR-TIMEZONE:Europe/Berlin
BEGIN:VEVENT
CLASS:PUBLIC
DTSTART;TZID="Europe/Berlin":20041112T210000
DTEND;TZID="Europe/Berlin":20041113T020000
LOCATION:Bunker-Club * Chemnitz * Rosenplatz 7 (gleich am Campus)
SUMMARY:DRECKSAU + Disrepute (Deathmetal * live)
DESCRIPTION:Nach längerer Konzertpause wird DRECKSAU mal wieder auf den Brettern wüten. Heute im Bunker.\nDer Name klingt zwar irgendwie nach Punk - isses aber nich.\nDEATHMETAL!\nBis 22.00 Uhr Landbier 1\,- Eur.
ORGANIZER:MAILTO:schneid@hrz.tu-chemnitz.de
UID:5486@www.tu-chemnitz.de
CREATED:20041112T202500Z
DTSTAMP:20210802T200449Z
END:VEVENT
END:VCALENDAR
