BEGIN:VCALENDAR
VERSION:2.0
PRODID:TU Chemnitz
METHOD:PUBLISH
X-WR-CALNAME:Veranstaltungen der TU Chemnitz
X-WR-TIMEZONE:Europe/Berlin
BEGIN:VEVENT
CLASS:PUBLIC
DTSTART;TZID="Europe/Berlin":20041206T200000
DTEND;TZID="Europe/Berlin":20041206T200000
LOCATION:Reichenhainer Str. 37/Keller
SUMMARY:Feuerzangenbowle im PEB (PEB-Studentenkeller)
DESCRIPTION:Alle Jahre wieder und doch immer ein Erlebnis!\n\nZur Einstimmung auf die beginnende Weihnachtszeit zeigt der PEB \nin seinen Hallen den Filmklassiker "Die Feuerzangenbowle". \n\nNatürlich wird dazu das passende Getränk serviert!\n\nEintritt frei!
ORGANIZER:MAILTO:mahub@hrz.tu-chemnitz.de
UID:5485@www.tu-chemnitz.de
CREATED:20041112T140500Z
DTSTAMP:20210802T200424Z
END:VEVENT
END:VCALENDAR
