BEGIN:VCALENDAR
VERSION:2.0
PRODID:TU Chemnitz
METHOD:PUBLISH
X-WR-CALNAME:Veranstaltungen der TU Chemnitz
X-WR-TIMEZONE:Europe/Berlin
BEGIN:VEVENT
CLASS:PUBLIC
DTSTART;TZID="Europe/Berlin":20041118T200000
DTEND;TZID="Europe/Berlin":20041118T230000
LOCATION:Reichenhainer Str. 55\, Chemnitz (Mensa)
SUMMARY:Mensa: Diavortrag "Amazonien - Von den Anden zum Atlantik" (TaC)
DESCRIPTION:Diavortrag der Reihe "Weltsichten" mit Axel Brümmer und Peter Glöckner\, die besonders bekannt wurden\, als Sie mit Ihren Fahrrädern zu einer aufsehenerregenden Tour entlang der historischen Route des ersten europäischen Chinareisenden Marco Polo reisten.\nAxel Brümmer und Peter Glöckner\nTel.: 0177 53 87 334
ORGANIZER:MAILTO:made@hrz.tu-chemnitz.de
UID:5483@www.tu-chemnitz.de
CREATED:20041111T162800Z
DTSTAMP:20210802T200441Z
END:VEVENT
END:VCALENDAR
