BEGIN:VCALENDAR
VERSION:2.0
PRODID:TU Chemnitz
METHOD:PUBLISH
X-WR-CALNAME:Veranstaltungen der TU Chemnitz
X-WR-TIMEZONE:Europe/Berlin
BEGIN:VEVENT
CLASS:PUBLIC
DTSTART;TZID="Europe/Berlin":19990531T150000
DTEND;TZID="Europe/Berlin":19990531T150000
LOCATION:Uni-Teil 1: Str. der Nationen 62\, Chemnitz (Böttcher-Bau)
SUMMARY:Röntgenabsorptionsspektroskopie an der K-Kante des Schwefels - eine leistungsstarke Methode\, um den Redoxzustand und die elektronische Struktur des Schwefels in vivo zu bestimmen  (Fakultät für Naturwissenschaften\, Institut für Chemie)
DESCRIPTION:Bewerbungsvortrag für die C3-Professur "Biophysikalisch – Anorganische Chemie"\nFrau Dr. Annette Rompel\, Universität Münster\nProf. Dr. Heinrich Lang\, Tel.: 0371 531 1200\, heinrich.lang@chemie.tu-chemnitz.de
ORGANIZER:MAILTO:erah@hrz.tu-chemnitz.de
UID:548@www.tu-chemnitz.de
CREATED:19990528T113300Z
DTSTAMP:20210802T203426Z
END:VEVENT
END:VCALENDAR
