BEGIN:VCALENDAR
VERSION:2.0
PRODID:TU Chemnitz
METHOD:PUBLISH
X-WR-CALNAME:Veranstaltungen der TU Chemnitz
X-WR-TIMEZONE:Europe/Berlin
BEGIN:VEVENT
CLASS:PUBLIC
DTSTART;TZID="Europe/Berlin":20041124T190000
DTEND;TZID="Europe/Berlin":20041124T210000
LOCATION:Wilhelm-Raabe-Str. 43\, Chemnitz
SUMMARY:Reihe Lichtspiel: Europäisches Autorenkino II: Die Verschwörung der Frauen von P. Greenaway (Philosophische Fakultät)
DESCRIPTION:Eintritt frei!\nEinführung von Andre Körner und Martin Baumann
ORGANIZER:MAILTO:martin.baumann@phil.tu-chemnitz.de
UID:5462@www.tu-chemnitz.de
CREATED:20041109T164200Z
DTSTAMP:20210802T200440Z
END:VEVENT
END:VCALENDAR
