BEGIN:VCALENDAR
VERSION:2.0
PRODID:TU Chemnitz
METHOD:PUBLISH
X-WR-CALNAME:Veranstaltungen der TU Chemnitz
X-WR-TIMEZONE:Europe/Berlin
BEGIN:VEVENT
CLASS:PUBLIC
DTSTART;TZID="Europe/Berlin":20041111T203000
DTEND;TZID="Europe/Berlin":20041111T233000
LOCATION:Kino\, Reichenhainer Str 35/37\, Keller
SUMMARY:[Kino * "mittendrin"] The Village - Das Dorf (Filmclub "mittendrin")
DESCRIPTION:Dem Augenschein nach ist das 60-Seelen-Dorf Covington eine friedliche ländliche Gemeinde aus dem 19. Jahrhundert. Doch wenn es dunkel wird\, gehen unheimliche Kreaturen aus dem benachbarten Wald um ...\nEinlaß 20.30\nBeginn 21.00
ORGANIZER:MAILTO:schneid@hrz.tu-chemnitz.de
UID:5458@www.tu-chemnitz.de
CREATED:20041109T153200Z
DTSTAMP:20210802T200441Z
END:VEVENT
END:VCALENDAR
