BEGIN:VCALENDAR
VERSION:2.0
PRODID:TU Chemnitz
METHOD:PUBLISH
X-WR-CALNAME:Veranstaltungen der TU Chemnitz
X-WR-TIMEZONE:Europe/Berlin
BEGIN:VEVENT
CLASS:PUBLIC
DTSTART;TZID="Europe/Berlin":20040127T190000
DTEND;TZID="Europe/Berlin":20040127T203000
LOCATION:Reichenhainer Str. 70\, Chemnitz (Rühlmann-Bau)
SUMMARY:Auf der Suche nach den `emischen Kategorien`: José de Anchietas Indianerdarstellung zwischen Ethnologie und Mission (TU Chemnitz\, IMIK)
DESCRIPTION:Dr. Teresa Pinheiro (Chemnitz)
ORGANIZER:MAILTO:frances.blueml@s2000.tu-chemnitz.de
UID:5454@www.tu-chemnitz.de
CREATED:20041109T140800Z
DTSTAMP:20210802T201144Z
END:VEVENT
END:VCALENDAR
