BEGIN:VCALENDAR
VERSION:2.0
PRODID:TU Chemnitz
METHOD:PUBLISH
X-WR-CALNAME:Veranstaltungen der TU Chemnitz
X-WR-TIMEZONE:Europe/Berlin
BEGIN:VEVENT
CLASS:PUBLIC
DTSTART;TZID="Europe/Berlin":20041108T203000
DTEND;TZID="Europe/Berlin":20041108T220000
LOCATION:Reichenhainer Str. 41\, Chemnitz
SUMMARY:Diskussionsrunde: Migration (AIESEC in Chemnitz)
DESCRIPTION:Nach einem Kurzvortrag über Russlanddeutsche wollen wir über deren Integrationsschwierigkeiten diskutieren.
ORGANIZER:MAILTO:zac@hrz.tu-chemnitz.de
UID:5438@www.tu-chemnitz.de
CREATED:20041105T134500Z
DTSTAMP:20210802T200445Z
END:VEVENT
END:VCALENDAR
