BEGIN:VCALENDAR
VERSION:2.0
PRODID:TU Chemnitz
METHOD:PUBLISH
X-WR-CALNAME:Veranstaltungen der TU Chemnitz
X-WR-TIMEZONE:Europe/Berlin
BEGIN:VEVENT
CLASS:PUBLIC
DTSTART;TZID="Europe/Berlin":20041207T190000
DTEND;TZID="Europe/Berlin":20041207T210000
LOCATION:Reichenhainer Str. 90\, Chemnitz (Zentr. Hörsaal- und Seminargebäude)
SUMMARY:Zwischen Normalität und Normativität. Perspektiven der Lebensphilosophie. (Philosophische Fakultät)
DESCRIPTION:Antrittsvortrag zur Erlangung des Titels Privatdozent der Philosophischen Fakultät.\nAlle InteressentInnen sind herzlich eingeladen!\nDr. habil. Thomas Rolf\nkarla.kebsch@phil.tu-chemnitz.de
ORGANIZER:MAILTO:karla.kebsch@phil.tu-chemnitz.de
UID:5432@www.tu-chemnitz.de
CREATED:20041104T130600Z
DTSTAMP:20210802T200423Z
END:VEVENT
END:VCALENDAR
