BEGIN:VCALENDAR
VERSION:2.0
PRODID:TU Chemnitz
METHOD:PUBLISH
X-WR-CALNAME:Veranstaltungen der TU Chemnitz
X-WR-TIMEZONE:Europe/Berlin
BEGIN:VEVENT
CLASS:PUBLIC
DTSTART;TZID="Europe/Berlin":20041104T200000
DTEND;TZID="Europe/Berlin":20041105T010000
LOCATION:Reichenhainer Str. 55\, Chemnitz (Mensa)
SUMMARY:TaC: Sportkneipe - UEFA Cup (TaC)
DESCRIPTION:UEFA-Cup   Einzelmeisterschaft im Tischkicker !!!!
ORGANIZER:MAILTO:made@hrz.tu-chemnitz.de
UID:5414@www.tu-chemnitz.de
CREATED:20041101T085500Z
DTSTAMP:20210802T200442Z
END:VEVENT
END:VCALENDAR
