BEGIN:VCALENDAR
VERSION:2.0
PRODID:TU Chemnitz
METHOD:PUBLISH
X-WR-CALNAME:Veranstaltungen der TU Chemnitz
X-WR-TIMEZONE:Europe/Berlin
BEGIN:VEVENT
CLASS:PUBLIC
DTSTART;TZID="Europe/Berlin":20041103T190000
DTEND;TZID="Europe/Berlin":20041103T210000
LOCATION:Wilhelm-Raabe-Str. 43\, Chemnitz
SUMMARY:Reihe Lichtspiel: Wunschfilm I (Philosophische Fakultät)
DESCRIPTION:Zur Auswahl stehen diesmal: \n"Adaption" von Spike Jonze\n"In the mood for Love" von Kar Wai Wong\n"Night moves" von Arthur Penn\n"Plötzlich Prinzessin" von Gary Marshall\nEintritt frei!\nEure Wahl bitte an diana.roesler@phil.tu-chemnitz.de
ORGANIZER:MAILTO:martin.baumann@phil.tu-chemnitz.de
UID:5401@www.tu-chemnitz.de
CREATED:20041028T145400Z
DTSTAMP:20210802T200447Z
END:VEVENT
END:VCALENDAR
