BEGIN:VCALENDAR
VERSION:2.0
PRODID:TU Chemnitz
METHOD:PUBLISH
X-WR-CALNAME:Veranstaltungen der TU Chemnitz
X-WR-TIMEZONE:Europe/Berlin
BEGIN:VEVENT
CLASS:PUBLIC
DTSTART;TZID="Europe/Berlin":20041103T200000
DTEND;TZID="Europe/Berlin":20041103T235900
LOCATION:Reichenhainer Str. 55\, Chemnitz (Mensa)
SUMMARY:TaC: Sportkneipe Champions League Bayern-Turin (TaC)
DESCRIPTION:Bayern ZWEI....Juve NULL
ORGANIZER:MAILTO:made@hrz.tu-chemnitz.de
UID:5400@www.tu-chemnitz.de
CREATED:20041028T105400Z
DTSTAMP:20210802T200455Z
END:VEVENT
END:VCALENDAR
