BEGIN:VCALENDAR
VERSION:2.0
PRODID:TU Chemnitz
METHOD:PUBLISH
X-WR-CALNAME:Veranstaltungen der TU Chemnitz
X-WR-TIMEZONE:Europe/Berlin
BEGIN:VEVENT
CLASS:PUBLIC
DTSTART;TZID="Europe/Berlin":19990520T180000
DTEND;TZID="Europe/Berlin":19990520T180000
LOCATION:Uni-Teil 3: Reichenhainer Str. 70\, Chemnitz (Rühlmann-Bau)
SUMMARY:Gastvortrag: "Hochschulfinanzierung/Studiengebühr" (Liberale Hochschulgruppe der TU Chemnitz)
DESCRIPTION:Herr Dr. Göring\, Finanzminister von Baden-Württemberg\nSascha Schulz\, Tel. 5 61-01 22
ORGANIZER:MAILTO:iroe@hrz.tu-chemnitz.de
UID:540@www.tu-chemnitz.de
CREATED:19990519T140400Z
DTSTAMP:20210802T203424Z
END:VEVENT
END:VCALENDAR
