BEGIN:VCALENDAR
VERSION:2.0
PRODID:TU Chemnitz
METHOD:PUBLISH
X-WR-CALNAME:Veranstaltungen der TU Chemnitz
X-WR-TIMEZONE:Europe/Berlin
BEGIN:VEVENT
CLASS:PUBLIC
DTSTART;TZID="Europe/Berlin":20041103T190000
DTEND;TZID="Europe/Berlin":20041103T220000
LOCATION:Wilhelm-Raabe-Str. 43\, Chemnitz
SUMMARY:Seminar Lichtspiel - Diesmal: Wunschfilm (Philosophische Fakultät\, Psychologisches Institut)
DESCRIPTION:Diesmal ist es an Euch\, Euren Wunschfilm für das Filmseminar zu bestimmen. Unter der folgenden www-Adresse findet Ihr unsere Auswahl:\nwww.tu-chemnitz.de/phil/film \nWie gewohnt\, wird der Wunschfilm zu Beginn der Veranstaltung kurz eingeführt.\nFilmteam
ORGANIZER:MAILTO:droe@hrz.tu-chemnitz.de
UID:5395@www.tu-chemnitz.de
CREATED:20041027T151200Z
DTSTAMP:20210802T200446Z
END:VEVENT
END:VCALENDAR
