BEGIN:VCALENDAR
VERSION:2.0
PRODID:TU Chemnitz
METHOD:PUBLISH
X-WR-CALNAME:Veranstaltungen der TU Chemnitz
X-WR-TIMEZONE:Europe/Berlin
BEGIN:VEVENT
CLASS:PUBLIC
DTSTART;TZID="Europe/Berlin":20041102T190000
DTEND;TZID="Europe/Berlin":20041102T210000
LOCATION:Reichenhainer Str. 70\, Chemnitz (Rühlmann-Bau)
SUMMARY:Diavortrag "Reise durch Ostpreußen - Photographische Streifzüge mit René Nehring" (René Nehring)
DESCRIPTION:
ORGANIZER:MAILTO:katja.porschhoefer@verwaltung.tu-chemnitz.de
UID:5394@www.tu-chemnitz.de
CREATED:20041027T150100Z
DTSTAMP:20210802T200442Z
END:VEVENT
END:VCALENDAR
