BEGIN:VCALENDAR
VERSION:2.0
PRODID:TU Chemnitz
METHOD:PUBLISH
X-WR-CALNAME:Veranstaltungen der TU Chemnitz
X-WR-TIMEZONE:Europe/Berlin
BEGIN:VEVENT
CLASS:PUBLIC
DTSTART;TZID="Europe/Berlin":20050203T140000
DTEND;TZID="Europe/Berlin":20050204T180000
LOCATION:Str. der Nationen 62\, Chemnitz (Altes Heizhaus)
SUMMARY:Intermedialität: Herausforderungen an die Philologien im Medienzeitalter (Philosophische Fakultät\, Professuren Anglistische Literaturwissenschaft und Amerikanistik)
DESCRIPTION:Die Konferenz widmet sich Grenzüberschreitungen zwischen national-philologisch verorteten Texten einerseits und den Populärkulturen andererseits. Diskutiert werden Aspekte wie Intermedialität\, Intertextualität und Medienwandel. Konferenzsprache: Englisch.\nProf. Dr. Werner Huber\, werner.huber@phil.tu-chemnitz.de\, http://www.tu-chemnitz.de/phil/amerikanistik/intermedia/
ORGANIZER:MAILTO:marie-luise.egert@phil.tu-chemnitz.de
UID:5393@www.tu-chemnitz.de
CREATED:20041027T142300Z
DTSTAMP:20210802T200348Z
END:VEVENT
END:VCALENDAR
