BEGIN:VCALENDAR
VERSION:2.0
PRODID:TU Chemnitz
METHOD:PUBLISH
X-WR-CALNAME:Veranstaltungen der TU Chemnitz
X-WR-TIMEZONE:Europe/Berlin
BEGIN:VEVENT
CLASS:PUBLIC
DTSTART;TZID="Europe/Berlin":20041130T200000
DTEND;TZID="Europe/Berlin":20041130T213000
LOCATION:Gemeindezentrum der Propstei\, Hohe Str. 1\, Kassberg\, gegenüber Kino "Metropol"
SUMMARY:Eine Weltkirche sein: Brasilien (Kath. Studentengemeinde)
DESCRIPTION:Unser Studentenpfarrer berichtet über seine Erlebnisse und Erfahrungen in Brasilien.\nStudentenpfarrer Markus Dieringer
ORGANIZER:MAILTO:ester@hrz.tu-chemnitz.de
UID:5383@www.tu-chemnitz.de
CREATED:20041025T115300Z
DTSTAMP:20210802T200444Z
END:VEVENT
END:VCALENDAR
